BEGIN:VCALENDAR
VERSION:2.0
PRODID:-//Seta ry - ECPv6.15.17.1//NONSGML v1.0//EN
CALSCALE:GREGORIAN
METHOD:PUBLISH
X-ORIGINAL-URL:https://seta.fi
X-WR-CALDESC:Tapahtumat Seta ry
REFRESH-INTERVAL;VALUE=DURATION:PT1H
X-Robots-Tag:noindex
X-PUBLISHED-TTL:PT1H
BEGIN:VTIMEZONE
TZID:Europe/Helsinki
BEGIN:DAYLIGHT
TZOFFSETFROM:+0200
TZOFFSETTO:+0300
TZNAME:EEST
DTSTART:20220327T010000
END:DAYLIGHT
BEGIN:STANDARD
TZOFFSETFROM:+0300
TZOFFSETTO:+0200
TZNAME:EET
DTSTART:20221030T010000
END:STANDARD
BEGIN:DAYLIGHT
TZOFFSETFROM:+0200
TZOFFSETTO:+0300
TZNAME:EEST
DTSTART:20230326T010000
END:DAYLIGHT
BEGIN:STANDARD
TZOFFSETFROM:+0300
TZOFFSETTO:+0200
TZNAME:EET
DTSTART:20231029T010000
END:STANDARD
BEGIN:DAYLIGHT
TZOFFSETFROM:+0200
TZOFFSETTO:+0300
TZNAME:EEST
DTSTART:20240331T010000
END:DAYLIGHT
BEGIN:STANDARD
TZOFFSETFROM:+0300
TZOFFSETTO:+0200
TZNAME:EET
DTSTART:20241027T010000
END:STANDARD
END:VTIMEZONE
BEGIN:VEVENT
DTSTART;TZID=Europe/Helsinki:20230610T110000
DTEND;TZID=Europe/Helsinki:20230610T180000
DTSTAMP:20260420T084449
CREATED:20230324T094057Z
LAST-MODIFIED:20240319T115242Z
UID:31826-1686394800-1686420000@seta.fi
SUMMARY:Sateenkaari liikkeessä - Sateenkaariaktivismin päivä 2023
DESCRIPTION:Seta järjestää Sateenkaariaktivismin päivän 10.6.2023 klo 11-18 Allianssi-talolla Helsingissä. Tapahtumapäivä sisältää rinnakkaisia luentoja\, työpajoja\, keskusteluja ja kohtaamisia. \nSateenkaariaktivismin päivä on tarkoitettu kaikille sateenkaari-ihmisten hyvinvointiin\, oikeuksiin ja näkyvyyteen vaikuttamaan pyrkiville ihmisille\, joita kiinnostaa erilaiset aktivismin ja vaikuttamisen muodot. Sateenkaariaktivismin päivä on uudenlainen tapahtumapäivä\, joka tuo yhteen niin pieniä kuin suuriakin sateenkaariliikkeen toimijoita. \nOhjelmiin voi tulla muutoksia ja lisää puhujia. Rinnakkaistilaisuuksiin ilmoittaudutaan paikan päällä. Puhujien tarkemmat esittelyt tulevat tälle sivulle ennen tapahtumaa. \nOhjelma\n  \nTila: Allianssi-sali \n11.00 Aktivismipäivien aloitus. Tilaisuus tulkataan suomalaiselle viittomakielelle ja striimataan. \n11.15-12.15 Affektiivinen aktivismi: queer- ja transmaailmojen luomisen paikat. Puhujana on Tuula Juvonen. Tilaisuus tulkataan suomalaiselle viittomakielelle ja striimataan. \n13.45-14.45 Lesbian activism now! Mitä on tämän päivän lesboaktivismi? Minkälaisia tavoitteita lesbojen aktivismilla on? Miten lesboaktivismi pyrkii kaikki lesbot huomioivaan inklusiivisuuteen? European Lesbian* Conferencen Ilaria Todde kertoo eurooppalaisesta lesboaktivismista. Keskustelussa mukana myös edustaja Lesbiks maktista Ruotsista ja Transfeminiinit ry:n puheenjohtaja Emilia Blåsten. Keskustelu on englanniksi. Tilaisuus striimataan. \n15-16 Kehorauha kaikille! Queer-näkökulmia kehopositiivisuuteen ja aktivismiin.  \n\nMiksi kehorauhan vaatiminen on tärkeää sateenkaari-ihmisille? \nMitä kehollisuuteen liittyviä sateenkaarinormeja tulisi haastaa – miten ne tulisi haastaa? \nMinkä pitäisi muuttua\, jotta kehorauha toteutuu? \nMitä voimme oppia kehopositiivisuusliikkeeltä ja aktivisteilta? \n\nTeemasta alustavat ja keskustelua käyvät Piki Rantanen\, Raisa Omaheimo\, Fiona ‘Elōne ja Pekka Rantala. Tilaisuus tulkataan suomalaiselle viittomakielelle ja striimataan. \n16.15-17.25 All Queer Male Panel – miesnäkökulmia sateenkaariaktivismiin. Mukana keskustelemassa sateenkaarimiehille erityisistä kysymyksistä muun muassa Antti Kauppinen sekä Jimi Salonen. Tilaisuus tulkataan suomalaiselle viittomakielelle ja striimataan. \n17.30 Aktivismipäivien lopetus. Tilaisuus tulkataan suomalaiselle viittomakielelle ja striimataan. \nTila: Kerho + Leiri\n11.15-12.30 Case Drag kids – miten varaudutaan anti-genderistiseen vastustukseen? Keskustelun järjestää Helsinki Pride -yhteisö.  \n13.45-14.45 Radikaali hoiva aktivismissa. Teemasta puhumassa muun muassa Isa Hukka\, M.K. Baijukya  ja Elina Halttunen-Riikonen. Tilaisuus tulkataan suomalaiselle viittomakielelle ja striimataan. \n15-16 Kun yksityinen on julkista: perhe vaikuttamisen keskiössä. Paneelikeskustelussa pohditaan sateenkaariperheiden elämää ja sateenkaariperheenä vaikuttamista. Keskustelujoina kokemusasiantuntijoina Kaksi äitiä -tubettajat Suski ja Ella sekä asiantuntija sekä Krister Karttunen Sateenkaariperheistä. Tilaisuuden järjestää Setan nuorisotoimikunta.  \n\nMillaisia haasteita sateenkaariperheet joutuvat kohtaamaan? \nMillaista on tehdä vaikuttamistyötä perheenä? \nMiten sateenkaariperheiden asemaa voisi parantaa?  \n\n16.15-17.15 Sateenkaariköyhyys. Mitä on sateenkaariköyhyys ja miten sateenkaariaktivisteina voimme edistää sen vähentämistä? Sessiossa esitellään Setan teettämä Johanna Pakkasen toteutama selvitys sateenkaari-ihmisten sosioekonomisesta asemasta. Mukana on kokemusasiantuntijoita ja vetämässä Sari Rantaniemi Sateenkaari-ikkuna ry:stä. \nTila: Paja + Etsivä kellari\n11.15-12:45 Työpaja: Tunne oikeutesi\, Amnesty International Suomen osasto (Anu Tuukkanen)\, Tunne oikeutesi: oikeus osoittaa mieltä on ihmisoikeus. Mitä osallistujan ja järjestäjän on hyvä tietää oikeuksistaan ja velvollisuuksistaan mielenosoituksissa? \n16:10-17.25 Työpaja: Aktivistin hyvinvointi\, Setan Voi ja saa! -hanke (Outi Tjurin)\, 90 min \n  \nLisätietoa\nTapahtuma on maksuton ja siihen on ennakkoilmoittautuminen. \nOsallistujille on tarjolla maksuttomasti vegaaninen lounas ja kahvia/teetä. Lounas on tarjolla klo 12.15-13.45. \nSeta tukee erikseen jäsenjärjestöjensä osallistumista aktivismipäiville. \nOsa keskusteluista striimattiin verkkoon. Tallenteet täällä. \nTapahtumasta voi keskustella aihetunnisteella #aktivismipaiva. \nSijainti ja esteettömyys\nAllianssi-talon osoite on Asemapäällikönkatu 1\, 00520 Helsinki. \nAllianssi-talo sijaitsee Helsingin Itä-Pasilassa. Talolta on kävelymatka Pasilan asemalta ja lähelle pääsee raitiovaunuilla sekä busseilla. Itä-Liikenteessä on poikkeusjärjestelyitä katutöiden vuoksi. Tarkista ajantasainen reittiohje HSL:n Reittioppaasta. \nAsemapäällikönkadun varrella on joitain maksullisia kadunvarsipaikkoja (4h)\, ja lähistöllä myös pari parkkitaloa ja -aluetta (P-Resiina\, P-Veturi ja P-Velodromi). \nTalolle on esteetön kulku pyörätuolilla. Allianssi-talon muut esteettömyystiedot: \nEtuoven tuplaovet: 150cm täysin auki \nAulan ja käytävän välinen ovi: 165cm \nKerho + Leiri -tilan tuplaovi: 165cm\, ovessa kynnys jonka korkeus n. 2.5cm \nAlakertaan liikkuminen hissillä\, väliovi ennen hissiä 145cm \nHissin ovi: 80cm\nHissin sisätilan leveys: ~108cm\nRamppi ennen hissiä: 122cm pitkä \nAlakerrassa Etsivä-pajan pääovessa korkea kynnys\, esteettömämmän oven kynnys 2.5cm\nVäliovet esteettömämmällä reitillä pajaan 90cm \nYläkerrassa ja alakerrassa inva-wc:t\, oven leveys molemmissa 94cm. \nJärjestäjän yhteystiedot\nSeta on valtakunnallinen sukupuoli- ja seksuaalivähemmistöjen ihmisoikeus- ja kansalaisjärjestö. Seta tekee ihmisoikeustyötä\, tukee noin 40 jäsenjärjestönsä toimintaa\, tekee nuorisotyötä ja ylläpitää verkkonuorisotalo Loistetta sekä Sukupuolen moninaisuuden osaamiskeskusta. \nLisätietoa tapahtumasta antaa valtakunnallisen Setan pääsihteeri: \nKerttu Tarjamo\np. +358 50 309 8108\npaasihteeri@seta.fi / kerttu.tarjamo@seta.fi\nTwitterissä @tarjamo \nPuhujien kuvauksia\nTuula Juvonen (YTT\, naistutkimuksen dosentti) on sukupuolentutkija\, joka on julkaissut perustutkimusta homoseksuaalisuuden muuttuvasta asemasta suomalaisessa yhteiskunnassa. Tällä hetkellä häntä kiinnostaa erityisesti sateenkaarihistoria ja sateenkaareva aktivismi muistiorganisaatioissa. Juvonen toimii sukupuolentutkimuksen yliopistonlehtorina (m.a.) Tampereen yliopistossa\, jossa hän vetää Suomen Akatemian rahoittamaa tutkimushanketta Affektiivinen aktivismi: queer- ja transmaailmojen luomisen paikat (AQT\, 2021–2025). \nAnu Tuukkanen työskentelee Amnesty Internationalin Suomen osastossa asiantuntijana vastuualueenaan ihmisoikeuspuolustajat ja kansalaisyhteiskunnan tila\, erityisesti oikeus mielenosoittamiseen. \nElina Halttunen-Riikonen on FM\, sosionomiopiskelija ja mielenterveyskuntoutuja\, joka on suomentanut feministisiä kirjoja. \nIlaria Todde toimii EL*C:n (Eurocentralasian Lesbian* Community) vaikuttamis- ja tutkimustoiminnan johtajana\, Italiasta lähtöisin oleva kokenut ruohonjuuritason aktivisti ja toiminnan järjestäjä\, joka on ollut mukana niin kansallisen kuin kansainvälisen tason vaikuttamistyössä lesbojen oikeuksien puolesta.   \nEmilia Blåsten on Transfeminiinit ry:n perustajajäsen ja nykyinen puheenjohtaja. Hän on matematiikan apulaisprofessori ja kiinnostunut eri kulttuureista. Emilian motto on: epätasa-arvo on epäloogista.   \nErika-Evely Ee Eisen on aktivisti\, joka on mukana Ihmisoikeusliiton Riittävä toimeentulo -vaikuttajaryhmässä.   \nJohanna Pakkanen on tasa-arvo- ja yhdenvertaisuusasiantuntija\, joka on työskennellyt naisten oikeuksien ja sateenkaari-ihmisten oikeuksien parissa. Koulutukseltaan hän on filosofian lisensiaatti. \nFiona ‘Elōne on helsinkiläinen vapaa kirjoittaja\, Ruskeat Tytöt ry:n toiminnanjohtaja\, intohimoinen lautapelaaja ja queer-mutsi. Tällä hetkellä ‘Elōne keskittyy uudelleenluomaan yhteyksiä esivanhempiensa alkuperäistietoon ja purkamaan kolonialistisia uskomuksia ja rakenteita ensin omassa mielessään ja siten ympäristössään. \nIsa Hukka on Stadissa asuva taiteilija ja filosofian opiskelija\, joka keskittyy työssään etenkin rampapraktiikoihin ja radikaaliin saavutettavuuteen. Hän toimii paikallisissa rampapoliittisissa kollektiiveissa kuten Just Another Crip Group ja Rampahoivaverkosto Helsinki. \nM.K. Baijukya\nM.K. Baijukya (they/she) is a self taught critical theorist and artist based in Helsinki. An urban animist\, their process is intuitive\, working with various mediums\, paint\, poetry and textiles as well as recycled materials. \nM.K. Baijukya (they/she) on itseoppinut kriittinen teoreetikko ja taiteilija\, joka asuu Helsingissä. Hän on urbaani animisti\, joka työskentelee intuitiivisin prosessein mm. maalaustaiteen\, runouden\, tekstiilien ja kierrätysmateriaalien parissa. \nPiki Rantanen on tamperelainen aktivisti\, sanataiteilija ja mediakentän monimittelijä. Rantanen tunnetaan erityisesti vaikuttavasta sosiaalisen median sisällöstään\, jossa hän purkaa kehoihin\, sukupuoleen ja ihmisyyteen liittyviä ennakkoluuloja viihteellisellä ja informatiivisella otteella. \nRaisa Omaheimo on helsinkiläinen kirjailija\, kolumnisti\, läskiaktivisti ja queerfeministi joka on kiinnostunut yksityisen ja yleisen rajapinnoista. Hän on tehnyt läskiaktivismia pitkään. Hänen uusin kirjansa Ratkaisuja läskeille (S&S) ilmestyi viime syksynä. \nAntti Kauppinen on pitkän linjan sateenkaariaktivisti. Toiminut mm. Amnestyn sateenkaariverkoston koordinaattorina\, ECMC:n eli eurooppalaisten homofetissikerhojen kattojärjestön sihteeristössä\, sekä kirjoittanut Suomen vanhimman fetissijärjestön MSC Finlandi – Tom’s Clubin 40-vuotishistoriikin. Antti on erikoistunut fetissivähemmistön vanilja-apropriaation kysymyksiin.  \nJimi Salonen on 21-vuotias oikeustieteen opiskelija Turusta. Hän on toiminut viime vuoden valtakunnallisen Setan nuorisotoimikunnassa jäsenenä ja kuluvan vuoden varapuheenjohtajana. \n 
URL:https://seta.fi/tapahtumat/sateenkaari-liikkeessa-sateenkaariaktivismin-paiva-2023/
LOCATION:Allianssi-talo\, Asemapäällikönkatu 1\, Helsinki
CATEGORIES:Setan tapahtuma
ATTACH;FMTTYPE=image/png:https://seta.fi/wp-content/uploads/2023/03/Sateenkaari-liikkeessa-Banneri.png
END:VEVENT
END:VCALENDAR